BEGIN:VCALENDAR
PRODID:-//Det Danske Spejderkorps//NONSGML Gruppeweb//EN
VERSION:2.0
CALSCALE:GREGORIAN
X-PUBLISHED-TTL:PT1H
X-WR-CALNAME:Juniorer i Veflinge-Morud Gruppe
METHOD:PUBLISH
BEGIN:VEVENT
UID:gruppeweb.dk:4211:event:104
DTSTAMP:20260423T190052Z
LAST-MODIFIED:20250330T115327Z
SUMMARY:Divisionsturnering d. 9.-11. maj
DESCRIPTION:Kære Junior og Tropsspejdere\nSkovdam Division inviterer alle 
 junior og tropsspejdere til  \nårets divisionsturnering. Temaet for åre
 ts turnering er Vores nye  \nverden. Vi skal tænke kreativt\, løse my
 stiske opgaver\, lege med vind og  \nenergi\, og selvfølgelig hygge os me
 d alle de andre fra Skovdam Division.\n\n\n\nDer skal naturligvis konkurre
 res i spejderfærdigheder\, Der gives point for  \nlejrsport\, pointløb o
 g madlavning. Alt mad til madbedømmelser vil blive  \nudleveret på lejre
 n. Da temaet er Vores nye verden skal vi medbringe noget  \nder gør til
 beredningen af jeres frokost brændebesparende.\n\n\n\nTil slut kåres vin
 dere af divisionsturneringen 2025. \n\n\n\nSkovdam inviterer til fælles
  aftensmad lørdag aften og fælles morgenmad  \nsøndag morgen.\n\n\n\n 
 \n\nAdresse:\n\n\n\nSkovdam Division\n\n\n\nGelsted Mose 44\n\n\n\n5591 Ge
 lsted\n\n\n\n \n\n\n\nStart:\n\n\n\nFredag den 9. maj kl. 17.00 – 19.00
  (Husk aftensmad til fredag aften)\n\n\n\n \n\n\n\nSlut:         
           \n\n\n\nSøndag den 11. maj kl. 10:30 – Forældre er
  velkomne fra kl. 10.00 til  \npræmieoverrækkelse.   \n\n\n\n \n\nPa
 kkeliste: Almindelig weekend pakkeliste\, madpakke\, drikkedunk\, spisegr
 ej  \nog viskestykke\n\n\n\nsamt patruljegrej. \n\n\n\n \n\n\n\nSange ti
 l lejrbål lørdag aften\, som vi med fordel kan øve os på  \nhjemmefra:
 \n\n\n\nAlverden kalder det væmmeligt – nr. 79\n\n\n\nLyseblå Bananer 
 – nr. 172\n\n\n\nHver lørdag eftermiddag – nr. 88\n\n\n\nGrave tørv 
 og glatte spåner – nr. 89\n\n\n\nNu flyver mørkets fugle ud – nr. 63
 \n\n\n\n \n\nBedste hilsner fra Lederne\n
URL:https://veflingemorudspejder.dk/begivenhed/divisionsturnering-d-9-11-ma
 j
DTSTART:20250509T150000Z
DTEND:20250511T083000Z
LOCATION:Skovdam Division\, Gelsted Mose 44\, 5591 Gelsted
END:VEVENT
BEGIN:VEVENT
UID:gruppeweb.dk:4211:event:121
DTSTAMP:20260423T190052Z
LAST-MODIFIED:20260309T090808Z
SUMMARY:Forhåndstilmelding Spejdernes lejr 2026
DESCRIPTION:Hvor mange skal med på Spejdernes lejr 2026\nPris trop + junio
 r (hel lejr) 2475 kr\n\nPris mini (halv lejr) 1815 kr\n\nDette er blot en 
 forhåndstilmelding\n\n
URL:https://veflingemorudspejder.dk/begivenhed/forhaandstilmelding-spejdern
 es-lejr-2026
DTSTART:20260718T080000Z
DTEND:20260726T140000Z
LOCATION:Veflinge-Morud spejderne\, Nymarksgyden 60\, 5474 Veflinge
END:VEVENT
BEGIN:VEVENT
UID:gruppeweb.dk:4211:event:127
DTSTAMP:20260423T190052Z
LAST-MODIFIED:20260322T084956Z
SUMMARY:Junior spejderdag 22. marts
DESCRIPTION:Hej juniorere!\n\nI ønskede jer mere tid til spejder\, så nu 
 holder vi spejdersøndag! 5 timer  \nmed rafter\, bål\, hygge og leg. Fø
 rste gang søndag d 22. marts kl 10-15.  \nHusk madpakke og drikkedunk.\n\
 nVi ses! Spejderhilsner fra lederne\n\n
URL:https://veflingemorudspejder.dk/begivenhed/junior-spejderdag-22-marts
DTSTART:20260322T090000Z
DTEND:20260322T140000Z
LOCATION:Veflinge-Morud spejderne\, Nymarksgyden 60\, 5474 Veflinge
END:VEVENT
BEGIN:VEVENT
UID:gruppeweb.dk:4211:event:131
DTSTAMP:20260423T190052Z
LAST-MODIFIED:20260310T213346Z
SUMMARY:Divi 2. års junior (5. klasse)
DESCRIPTION:Junior divi på Skovdam med resten af divisionen\n\nPrøv kræf
 ter med patruljearbejde og spejderfærdigheder\n\n
URL:https://veflingemorudspejder.dk/begivenhed/divi-2-aars-junior-5-klasse
DTSTART:20260508T150000Z
DTEND:20260510T090000Z
LOCATION:Skovdam\, Gelstedmose 44\, 5591 Gelsted
END:VEVENT
BEGIN:VEVENT
UID:gruppeweb.dk:4211:event:132
DTSTAMP:20260423T190052Z
LAST-MODIFIED:20260310T213347Z
SUMMARY:Divi 1. Års junior (4. Klasse)
DESCRIPTION:Divisionsturnering for 1. års juniorer\n\nPrøv kræfter med p
 atrulje og spejderarbejdet\n\n
URL:https://veflingemorudspejder.dk/begivenhed/divi-1-aars-junior-4-klasse
DTSTART:20260509T080000Z
DTEND:20260510T090000Z
LOCATION:Skovdam\, Gelstedmose 44\, 5591 Gelsted
END:VEVENT
END:VCALENDAR
