BEGIN:VCALENDAR
PRODID:-//Det Danske Spejderkorps//NONSGML Gruppeweb//EN
VERSION:2.0
CALSCALE:GREGORIAN
X-PUBLISHED-TTL:PT1H
X-WR-CALNAME:Mini i Veflinge-Morud Gruppe
METHOD:PUBLISH
BEGIN:VEVENT
UID:gruppeweb.dk:4211:event:104
DTSTAMP:20260423T194109Z
LAST-MODIFIED:20250330T115327Z
SUMMARY:Divisionsturnering d. 9.-11. maj
DESCRIPTION:Kære Junior og Tropsspejdere\nSkovdam Division inviterer alle 
 junior og tropsspejdere til  \nårets divisionsturnering. Temaet for åre
 ts turnering er Vores nye  \nverden. Vi skal tænke kreativt\, løse my
 stiske opgaver\, lege med vind og  \nenergi\, og selvfølgelig hygge os me
 d alle de andre fra Skovdam Division.\n\n\n\nDer skal naturligvis konkurre
 res i spejderfærdigheder\, Der gives point for  \nlejrsport\, pointløb o
 g madlavning. Alt mad til madbedømmelser vil blive  \nudleveret på lejre
 n. Da temaet er Vores nye verden skal vi medbringe noget  \nder gør til
 beredningen af jeres frokost brændebesparende.\n\n\n\nTil slut kåres vin
 dere af divisionsturneringen 2025. \n\n\n\nSkovdam inviterer til fælles
  aftensmad lørdag aften og fælles morgenmad  \nsøndag morgen.\n\n\n\n 
 \n\nAdresse:\n\n\n\nSkovdam Division\n\n\n\nGelsted Mose 44\n\n\n\n5591 Ge
 lsted\n\n\n\n \n\n\n\nStart:\n\n\n\nFredag den 9. maj kl. 17.00 – 19.00
  (Husk aftensmad til fredag aften)\n\n\n\n \n\n\n\nSlut:         
           \n\n\n\nSøndag den 11. maj kl. 10:30 – Forældre er
  velkomne fra kl. 10.00 til  \npræmieoverrækkelse.   \n\n\n\n \n\nPa
 kkeliste: Almindelig weekend pakkeliste\, madpakke\, drikkedunk\, spisegr
 ej  \nog viskestykke\n\n\n\nsamt patruljegrej. \n\n\n\n \n\n\n\nSange ti
 l lejrbål lørdag aften\, som vi med fordel kan øve os på  \nhjemmefra:
 \n\n\n\nAlverden kalder det væmmeligt – nr. 79\n\n\n\nLyseblå Bananer 
 – nr. 172\n\n\n\nHver lørdag eftermiddag – nr. 88\n\n\n\nGrave tørv 
 og glatte spåner – nr. 89\n\n\n\nNu flyver mørkets fugle ud – nr. 63
 \n\n\n\n \n\nBedste hilsner fra Lederne\n
URL:https://veflingemorudspejder.dk/begivenhed/divisionsturnering-d-9-11-ma
 j
DTSTART:20250509T150000Z
DTEND:20250511T083000Z
LOCATION:Skovdam Division\, Gelsted Mose 44\, 5591 Gelsted
END:VEVENT
BEGIN:VEVENT
UID:gruppeweb.dk:4211:event:103
DTSTAMP:20260423T194109Z
LAST-MODIFIED:20260213T155155Z
SUMMARY:Sommerlejr på Houens Odde Spejdercenter
DESCRIPTION:Kære mikro-\, mini- og juniorspejdere\nKom med på centerlejr 
 på Houens Odde spejdercenter i Kr. Himmelfartsferien  \nog oplev spænden
 de\, sjove og klassiske aktiviteter tilpasset de mindste  \nspejdere.\nDer
  vil være naturaktiviteter\, kreative aktiviteter i forhistoriske  \nvær
 ksteder og også aktiviteter på vandet.Staben på Houens Odde vil lave  \
 nfælles lejrbål og natløb for de grupper der deltager.\nGrupperne bor r
 undt i skoven\, i telt på lejrpladser\, sammen med deres egne  \nledere\,
  og her tilbereder vi selv mad\, mens staben på Houens Odde står for  \n
 alle aktiviteter.\n\nBedste hilsner fra Lederne\n\n
URL:https://veflingemorudspejder.dk/begivenhed/sommerlejr-paa-houens-odde-s
 pejdercenter
DTSTART:20250529T120000Z
DTEND:20250601T080000Z
LOCATION:Veflinge-Morud spejderne\, Nymarksgyden 60\, 5474 Veflinge
END:VEVENT
BEGIN:VEVENT
UID:gruppeweb.dk:4211:event:118
DTSTAMP:20260423T194109Z
LAST-MODIFIED:20250821T142317Z
SUMMARY:Weekendtur mini+junior
DESCRIPTION:Juhu\, Vi skal på tur!\n\n- Det bliver sjovt\n\n- Vi skal lege
 \, synge\, spille spil og hygge\n\n- Vi skal spise god mad og sove i hytte
 \n\nOg meget\, meget mere\n\n\nVi mødes lørdag d. 20. sept kl 9.30 ved L
 angesøhallerne. Hav gerne  \ndrikkedunk med i en lille rygsæk. Bagagege 
 bliver kørt\n\nVi slutter søndag d. 21. sept kl 13.00 på Ruedam\, Lange
 søvej 172\, 5462  \nMorud\n\n\nVi beder forældre være behjælpelige med
  rengøring\, da vi selv skal stå  \nfor dette.\n\n
URL:https://veflingemorudspejder.dk/begivenhed/weekendtur-minijunior
DTSTART:20250920T073000Z
DTEND:20250921T110000Z
LOCATION:Veflinge-Morud spejderne\, Nymarksgyden 60\, 5474 Veflinge
END:VEVENT
BEGIN:VEVENT
UID:gruppeweb.dk:4211:event:119
DTSTAMP:20260423T194109Z
LAST-MODIFIED:20260213T155117Z
SUMMARY:Mikro/minidag 26. Oktober
DESCRIPTION:Mikro/minidag \n\nKom med til en sjov dag med dine spejdervenn
 er.\n\nVi skal til mikro/minidag hos Glamsbjerg Spejderne\n\nSe mere på d
 en udleverede seddel\n\n
URL:https://veflingemorudspejder.dk/begivenhed/mikrominidag-26-oktober
DTSTART:20251026T081500Z
DTEND:20251026T130000Z
LOCATION:Veflinge-Morud spejderne\, Nymarksgyden 60\, 5474 Veflinge
END:VEVENT
BEGIN:VEVENT
UID:gruppeweb.dk:4211:event:120
DTSTAMP:20260423T194109Z
LAST-MODIFIED:20250930T141842Z
SUMMARY:Julearrangement
DESCRIPTION:Ho ho ho\, kære spejdere. Julen er på vej!\n\nSæt kryds i ka
 lenderen 22. November\, hvor årets julearrangement foregår\n\nVi mødes 
 kl 10:00 ved Skolens cykelstativ\, hvorfra vi tager på juleløb  \nrundt 
 i Morud\n\nVi spiser frokost sammen (husk madpakke). Når alle poster er l
 øst\, går vi  \nsammen gennem skoven til spejderhytten\n\nI hytten skal 
 vi julehygge\, spille pakkeleg\, lave juledekorationer\, spise  \njulemad 
 og rafle om opvasken\n\nKl 20 hentes vi alle sammen oppe ved vejen\n\n\nMe
 dbring: madpakke og en gave til pakkespil til 20 kr\n\nHusk: Varmt tøj og
  varme sko/støvler\n\nPris: 50 kr\n\n\nVi glæder os \n\nLederne\n\n
URL:https://veflingemorudspejder.dk/begivenhed/julearrangement
DTSTART:20251122T090000Z
DTEND:20251122T190000Z
LOCATION:Veflinge-Morud spejderne\, Nymarksgyden 60\, 5474 Veflinge
END:VEVENT
BEGIN:VEVENT
UID:gruppeweb.dk:4211:event:123
DTSTAMP:20260423T194109Z
LAST-MODIFIED:20260221T071127Z
SUMMARY:Mini/junior vintertur
DESCRIPTION:Hurraaaaa nu skal vi på tur igen.\n\nVi skal til Skovdam\, Div
 isionens hytte i Gelsted\n\nTilmeld dig før din nabo\n\n\nMini og junior 
 lederne\n\n
URL:https://veflingemorudspejder.dk/begivenhed/minijunior-vintertur
DTSTART:20260221T090000Z
DTEND:20260222T110000Z
LOCATION:Skovdam\, Gelstedmose 44\, 5591 Gelsted
END:VEVENT
BEGIN:VEVENT
UID:gruppeweb.dk:4211:event:134
DTSTAMP:20260423T194109Z
LAST-MODIFIED:20260315T210257Z
SUMMARY:Mini spejdersøndag 26/4
DESCRIPTION:Vi skal tage snobrød 2026 mærket\n\nvi skal lave det bedste b
 ål til at bage snobrød på\, vi skal finde de  \nbedste snobrødspinde o
 g vi skal spise så mange forskellige snobrød som  \nmuligt\n\nDet bliver
  sjovt!\n\n\nHilsen minilederne\n\n
URL:https://veflingemorudspejder.dk/begivenhed/mini-spejdersoendag-264
DTSTART:20260426T080000Z
DTEND:20260426T130000Z
LOCATION:Veflinge-Morud spejderne\, Nymarksgyden 60\, 5474 Veflinge
END:VEVENT
BEGIN:VEVENT
UID:gruppeweb.dk:4211:event:130
DTSTAMP:20260423T194109Z
LAST-MODIFIED:20260313T111810Z
SUMMARY:Divi minier
DESCRIPTION:Sjov weekend med de andre minier i divisionen\n\n
URL:https://veflingemorudspejder.dk/begivenhed/divi-minier
DTSTART:20260509T080000Z
DTEND:20260510T090000Z
LOCATION:Skovdam\, Gelstedmose 44\, 5591 Gelsted
END:VEVENT
BEGIN:VEVENT
UID:gruppeweb.dk:4211:event:121
DTSTAMP:20260423T194109Z
LAST-MODIFIED:20260309T090808Z
SUMMARY:Forhåndstilmelding Spejdernes lejr 2026
DESCRIPTION:Hvor mange skal med på Spejdernes lejr 2026\nPris trop + junio
 r (hel lejr) 2475 kr\n\nPris mini (halv lejr) 1815 kr\n\nDette er blot en 
 forhåndstilmelding\n\n
URL:https://veflingemorudspejder.dk/begivenhed/forhaandstilmelding-spejdern
 es-lejr-2026
DTSTART:20260718T080000Z
DTEND:20260726T140000Z
LOCATION:Veflinge-Morud spejderne\, Nymarksgyden 60\, 5474 Veflinge
END:VEVENT
END:VCALENDAR
